BEGIN:VCALENDAR
VERSION:2.0
PRODID:-//Wise Society - ECPv6.15.17//NONSGML v1.0//EN
CALSCALE:GREGORIAN
METHOD:PUBLISH
X-ORIGINAL-URL:https://www.wisesociety.com.au
X-WR-CALDESC:Events for Wise Society
REFRESH-INTERVAL;VALUE=DURATION:PT1H
X-Robots-Tag:noindex
X-PUBLISHED-TTL:PT1H
BEGIN:VTIMEZONE
TZID:Asia/Jakarta
BEGIN:STANDARD
TZOFFSETFROM:+0700
TZOFFSETTO:+0700
TZNAME:WIB
DTSTART:20230101T000000
END:STANDARD
END:VTIMEZONE
BEGIN:VEVENT
DTSTART;TZID=Asia/Jakarta:20240324T110000
DTEND;TZID=Asia/Jakarta:20240324T150000
DTSTAMP:20260422T011157
CREATED:20240126T094552Z
LAST-MODIFIED:20240126T101628Z
UID:570-1711278000-1711292400@www.wisesociety.com.au
SUMMARY:WISE Indonesia - Annual Gala 2024
DESCRIPTION:Pada hari Minggu\, 24 Maret 2024\, WISE & Suhana Lim mengadakan sebuah event yang dinamakan “WISE Annual Gala 2024.” Sebuah pesta akbar dan kemeriahan yang dihadiri oleh ratusan peserta dari berbagai kota di Indonesia dan bahkan ada beberapa datang dari luar Indonesia\, termasuk akan hadir pula dignitaries (VVIP) dari pihak swasta dan pemerintah. WISE Annual Gala akan menampilkan aneka pagelaran budaya Tionghoa seperti tarian naga dan barongsai\, peragaan seni bela diri wushu & musik. Ada pula pameran barang-barang seni khas Tiongkok\, yang berkualitas tinggi\, karya sang maestro Gunawan Widjaja yang menyemarakan atmosphere. \nOn top of that\, aspek dan tujuan yang terpenting dari WISE Annual Gala ialah untuk membantu semua peserta yang hadir untuk mendapatkan 增强运气 (enhancement hoki) dan 净化厄运(cleansing kemalangan). Enhancement of luck & cleansing of bad luck inilah point khusus dan spesial yang membuat WISE Annual Gala menjadi sebuah acara yang beda dengan sekedar acara kumpul-kumpul makan menikmati aneka hiburan. \nTeknik enhancement of luck & cleansing of bad luck yang berasal dari budaya Tiongkok ini sudah amat langka (kalau tidak mau dikatakan sudah hampir punah) ini bermanfaat untuk memperbesar hoki (bagi individu yang tidak terkena clashing alias ciong); Dan tentunya sangat efektif buat meminimalkan ketidak beruntungan untuk orang-orang yang terkena ciong atau clashing di tahun Naga 2024. Bagi yang di ba zi (komponen personal energi) nya ada simbol Naga dan atau Anjing\, maka secara teknis dan official adalah terkena ciong atau clashing selama tahun Naga. \nTeknik enhancement of luck & cleansing of bad luck yang diaplikasikan oleh Suhana Lim ini adalah bersifat universal dalam arti tidak terkait dengan atau didasarkan kepada agama / kepercayaan tertentu. Tetapi sebuah teknik langka Tiongkok kuno (古代中国) yang memanfaatkan kekuatan energi Alam Semesta (宇宙能量). Therefore\, bisa dimanfaatkan oleh semua orang tanpa batasan latar belakang suku/ etnis\, agama / kepercayaan\, dan strata sosial / finansial / edukasi. \nTherefore\, WISE Annual Gala adalah sebuah event yang amat khusus\, unik sekaligus amat berguna untuk dihadiri guna membantu menambah hoki dan meminimalkan kesialan. Jangan liwatkan event amat spesial\, unik sekaligus langka ini. Tidak berlebih untuk katakan WISE Annual Gala 2024 ialah sebuah event sejenis yang pertama kali diselenggarakan di Indonesia! Amat sayang untuk meliwatkan event unik\, bermanfaat dan spesial ini! Sampai jumpa di WISE Annual Gala pada hari Minggu\, 24 Maret 2024; jam 11 – 15 siang bertempat di Fortune Star Function Hall di Jalan Kunir nomor 2 – Jakarta Barat. \nUntuk info selanjutnya mengenai WISE Annual Gala 2024 silahkan hubungi:\nIndri: +62 815-6589-937\nSuhana: +61 422 212 567\nErick: +62 812-1071-171 \n 
URL:https://www.wisesociety.com.au/event/wise-indonesia-annual-gala-2024/
LOCATION:Fortune Star Function Hall\, Jl. Kunir No.2\, Jakarta Barat\, Daerah Khusus Ibukota Jakarta\, 11110\, Indonesia
CATEGORIES:Cleansing & Enhancement
ATTACH;FMTTYPE=image/png:https://www.wisesociety.com.au/wp-content/uploads/2024/01/Dragon-Annual-Gala.png
END:VEVENT
END:VCALENDAR